BEGIN:VCALENDAR
VERSION:2.0
PRODID:-//Gastro Morges - ECPv6.15.18//NONSGML v1.0//EN
CALSCALE:GREGORIAN
METHOD:PUBLISH
X-WR-CALNAME:Gastro Morges
X-ORIGINAL-URL:https://gastromorges.ch
X-WR-CALDESC:Évènements pour Gastro Morges
REFRESH-INTERVAL;VALUE=DURATION:PT1H
X-Robots-Tag:noindex
X-PUBLISHED-TTL:PT1H
BEGIN:VTIMEZONE
TZID:Europe/Zurich
BEGIN:DAYLIGHT
TZOFFSETFROM:+0100
TZOFFSETTO:+0200
TZNAME:CEST
DTSTART:20250330T010000
END:DAYLIGHT
BEGIN:STANDARD
TZOFFSETFROM:+0200
TZOFFSETTO:+0100
TZNAME:CET
DTSTART:20251026T010000
END:STANDARD
BEGIN:DAYLIGHT
TZOFFSETFROM:+0100
TZOFFSETTO:+0200
TZNAME:CEST
DTSTART:20260329T010000
END:DAYLIGHT
BEGIN:STANDARD
TZOFFSETFROM:+0200
TZOFFSETTO:+0100
TZNAME:CET
DTSTART:20261025T010000
END:STANDARD
BEGIN:DAYLIGHT
TZOFFSETFROM:+0100
TZOFFSETTO:+0200
TZNAME:CEST
DTSTART:20270328T010000
END:DAYLIGHT
BEGIN:STANDARD
TZOFFSETFROM:+0200
TZOFFSETTO:+0100
TZNAME:CET
DTSTART:20271031T010000
END:STANDARD
END:VTIMEZONE
BEGIN:VEVENT
DTSTART;TZID=Europe/Zurich:20260427T100000
DTEND;TZID=Europe/Zurich:20260427T150000
DTSTAMP:20260423T144457
CREATED:20260325T093649Z
LAST-MODIFIED:20260409T120448Z
UID:3623-1777284000-1777302000@gastromorges.ch
SUMMARY:Assises publiques
DESCRIPTION:Cette séance aura lieu le lundi 27 avril à 10h à la Maison des Congrès aux Diablerets\, suivie d’un apéritif et d’un repas au Glacier Hotel. \nComme le veut la tradition\, la section a le plaisir de vous offrir la carte de fête pour cette journée. Pour ceux qui le souhaitent\, un transport est également organisé. \nCette journée est\, en plus de l’assemblée\, un moment récréatif\, la bonne occasion de faire du réseautage entre restaurateurs\, traiteurs\, cafetiers\, hôteliers ou artisans culinaires du canton.
URL:https://gastromorges.ch/evenement/assises-publiques/
LOCATION:Les Diablerets
ATTACH;FMTTYPE=image/jpeg:https://gastromorges.ch/wp-content/uploads/2026/03/logo-gastroVaud.jpg
END:VEVENT
BEGIN:VEVENT
DTSTART;TZID=Europe/Zurich:20260511T150000
DTEND;TZID=Europe/Zurich:20260511T173000
DTSTAMP:20260423T144457
CREATED:20260325T093736Z
LAST-MODIFIED:20260409T115644Z
UID:3626-1778511600-1778520600@gastromorges.ch
SUMMARY:Assemblée des délégués
DESCRIPTION:L’assemblée générale statutaire des délégués se tiendra le lundi 11 mai à 15h.\nLa séance se tenant au Centre professionnel GastroVaud à Pully sera suivie d’un apéritif dînatoire à la Pinte Vaudoise.
URL:https://gastromorges.ch/evenement/assemblee-des-delegues/
LOCATION:Centre professionnel GastroVaud à Pully
ATTACH;FMTTYPE=image/jpeg:https://gastromorges.ch/wp-content/uploads/2026/03/logo-gastroVaud.jpg
END:VEVENT
END:VCALENDAR